BEGIN:VCALENDAR
VERSION:2.0
PRODID:-//Järva Vald - ECPv6.15.20//NONSGML v1.0//EN
CALSCALE:GREGORIAN
METHOD:PUBLISH
X-WR-CALNAME:Järva Vald
X-ORIGINAL-URL:https://jarvavald.ee
X-WR-CALDESC:Events for Järva Vald
REFRESH-INTERVAL;VALUE=DURATION:PT1H
X-Robots-Tag:noindex
X-PUBLISHED-TTL:PT1H
BEGIN:VTIMEZONE
TZID:Europe/Tallinn
BEGIN:DAYLIGHT
TZOFFSETFROM:+0200
TZOFFSETTO:+0300
TZNAME:EEST
DTSTART:20250330T010000
END:DAYLIGHT
BEGIN:STANDARD
TZOFFSETFROM:+0300
TZOFFSETTO:+0200
TZNAME:EET
DTSTART:20251026T010000
END:STANDARD
BEGIN:DAYLIGHT
TZOFFSETFROM:+0200
TZOFFSETTO:+0300
TZNAME:EEST
DTSTART:20260329T010000
END:DAYLIGHT
BEGIN:STANDARD
TZOFFSETFROM:+0300
TZOFFSETTO:+0200
TZNAME:EET
DTSTART:20261025T010000
END:STANDARD
BEGIN:DAYLIGHT
TZOFFSETFROM:+0200
TZOFFSETTO:+0300
TZNAME:EEST
DTSTART:20270328T010000
END:DAYLIGHT
BEGIN:STANDARD
TZOFFSETFROM:+0300
TZOFFSETTO:+0200
TZNAME:EET
DTSTART:20271031T010000
END:STANDARD
END:VTIMEZONE
BEGIN:VEVENT
DTSTART;TZID=Europe/Tallinn:20260428T180000
DTEND;TZID=Europe/Tallinn:20260428T200000
DTSTAMP:20260420T181653
CREATED:20260402T124911Z
LAST-MODIFIED:20260402T125201Z
UID:8746-1777399200-1777406400@jarvavald.ee
SUMMARY:Avalik arutelu: Karinu IV lubjakivikarjääri keskkonnaluba
DESCRIPTION:
URL:https://jarvavald.ee/sundmus/avalik-arutelu-karinu-iv-lubjakivikarjaari-keskkonnaluba/
LOCATION:Karinu külamaja\, Karinu\, Järva maakond\, 73302\, Estonia
ATTACH;FMTTYPE=image/jpeg:https://jarvavald.ee/wp-content/uploads/2026/04/AVALIK-ARUTELU-Karinu.jpg
END:VEVENT
BEGIN:VEVENT
DTSTART;TZID=Europe/Tallinn:20260429T180000
DTEND;TZID=Europe/Tallinn:20260429T200000
DTSTAMP:20260420T181653
CREATED:20260312T091229Z
LAST-MODIFIED:20260312T091229Z
UID:8224-1777485600-1777492800@jarvavald.ee
SUMMARY:Tule rahvusvahelist tantsupäeva tähistama
DESCRIPTION:
URL:https://jarvavald.ee/sundmus/tule-rahvusvahelist-tantsupaeva-tahistama/
LOCATION:Imavere rahvamaja\, Kiigevere tee 5/2\, Imavere\, Järva maakond\, 72401\, Estonia
ATTACH;FMTTYPE=image/jpeg:https://jarvavald.ee/wp-content/uploads/2026/03/RAHVUSVAHELINE-T-A-N-T-S-U-P-A-E-V.jpg
END:VEVENT
BEGIN:VEVENT
DTSTART;TZID=Europe/Tallinn:20260430T110000
DTEND;TZID=Europe/Tallinn:20260430T123000
DTSTAMP:20260420T181653
CREATED:20260213T183909Z
LAST-MODIFIED:20260213T183909Z
UID:7615-1777546800-1777552200@jarvavald.ee
SUMMARY:Piip ja Tuut teater esitleb "Spaghetti"
DESCRIPTION:
URL:https://jarvavald.ee/sundmus/piip-ja-tuut-teater-esitleb-spaghetti/
LOCATION:Koeru kultuurimaja\, Paide tee 3\, Koeru\, Järva maakond\, 73001\, Estonia
ATTACH;FMTTYPE=image/jpeg:https://jarvavald.ee/wp-content/uploads/2026/02/30.04.2026-Piip-ja-Tuut-Spaghetti.jpg
END:VEVENT
BEGIN:VEVENT
DTSTART;TZID=Europe/Tallinn:20260501T060000
DTEND;TZID=Europe/Tallinn:20260502T055959
DTSTAMP:20260420T181653
CREATED:20260322T092934Z
LAST-MODIFIED:20260322T092934Z
UID:8401-1777615200-1777701599@jarvavald.ee
SUMMARY:Sõidame üheskoos Lätti Sigulda laadale
DESCRIPTION:
URL:https://jarvavald.ee/sundmus/soidame-uheskoos-latti-sigulda-laadale/
LOCATION:Järva maakond
ATTACH;FMTTYPE=image/png:https://jarvavald.ee/wp-content/uploads/2026/03/Sigulda-laat-1052026.png
END:VEVENT
BEGIN:VEVENT
DTSTART;TZID=Europe/Tallinn:20260502T080000
DTEND;TZID=Europe/Tallinn:20260503T200000
DTSTAMP:20260420T181653
CREATED:20260227T182455Z
LAST-MODIFIED:20260227T182455Z
UID:7928-1777708800-1777838400@jarvavald.ee
SUMMARY:Järva-Jaani 100! Discgolf
DESCRIPTION:
URL:https://jarvavald.ee/sundmus/jarva-jaani-100-discgolf/
LOCATION:Järva-Jaani
ATTACH;FMTTYPE=image/jpeg:https://jarvavald.ee/wp-content/uploads/2026/02/2.-3.-mai-Jarva-Jaani-discgolf-100.jpg
END:VEVENT
BEGIN:VEVENT
DTSTART;TZID=Europe/Tallinn:20260502T130000
DTEND;TZID=Europe/Tallinn:20260502T160000
DTSTAMP:20260420T181653
CREATED:20260420T104542Z
LAST-MODIFIED:20260420T104629Z
UID:8900-1777726800-1777737600@jarvavald.ee
SUMMARY:Vokiratta klubiõhtu
DESCRIPTION:
URL:https://jarvavald.ee/sundmus/vokiratta-klubiohtu-2/
LOCATION:Aravete kultuurimaja\, Piibe mnt 27\, Aravete\, Järva maakond\, 73501\, Estonia
ATTACH;FMTTYPE=image/jpeg:https://jarvavald.ee/wp-content/uploads/2026/04/eklubu-3.jpg
END:VEVENT
BEGIN:VEVENT
DTSTART;TZID=Europe/Tallinn:20260502T180000
DTEND;TZID=Europe/Tallinn:20260502T200000
DTSTAMP:20260420T181653
CREATED:20260226T134538Z
LAST-MODIFIED:20260226T134538Z
UID:7870-1777744800-1777752000@jarvavald.ee
SUMMARY:Jaak Joala 75 "Päike ikka paistma jääb"
DESCRIPTION:
URL:https://jarvavald.ee/sundmus/jaak-joala-75-paike-ikka-paistma-jaab/
LOCATION:Koeru kultuurimaja\, Paide tee 3\, Koeru\, Järva maakond\, 73001\, Estonia
ATTACH;FMTTYPE=image/jpeg:https://jarvavald.ee/wp-content/uploads/2026/02/Koeru_4X5-ERALDI_JJ75.jpg
END:VEVENT
BEGIN:VEVENT
DTSTART;TZID=Europe/Tallinn:20260507T180000
DTEND;TZID=Europe/Tallinn:20260507T193000
DTSTAMP:20260420T181653
CREATED:20260402T115506Z
LAST-MODIFIED:20260402T115506Z
UID:8723-1778176800-1778182200@jarvavald.ee
SUMMARY:Algab liikumissari 8. Järvamaa järvede jooksud
DESCRIPTION:
URL:https://jarvavald.ee/sundmus/algab-liikumissari-8-jarvamaa-jarvede-jooksud/
LOCATION:Järva maakond
ATTACH;FMTTYPE=image/jpeg:https://jarvavald.ee/wp-content/uploads/2026/04/2026-Jarvede-jooksud-kuultus-1.jpg
END:VEVENT
BEGIN:VEVENT
DTSTART;TZID=Europe/Tallinn:20260509T060000
DTEND;TZID=Europe/Tallinn:20260510T055959
DTSTAMP:20260420T181653
CREATED:20260113T071512Z
LAST-MODIFIED:20260113T071739Z
UID:6910-1778306400-1778392799@jarvavald.ee
SUMMARY:PYHA MYRGEL vol 4
DESCRIPTION:
URL:https://jarvavald.ee/sundmus/pyha-myrgel-vol-4/
LOCATION:Järva maakond
ATTACH;FMTTYPE=image/jpeg:https://jarvavald.ee/wp-content/uploads/2026/01/09.05.2026-Puha-Murgel.jpg
END:VEVENT
BEGIN:VEVENT
DTSTART;TZID=Europe/Tallinn:20260515T180000
DTEND;TZID=Europe/Tallinn:20260515T200000
DTSTAMP:20260420T181653
CREATED:20260420T125938Z
LAST-MODIFIED:20260420T125944Z
UID:8925-1778868000-1778875200@jarvavald.ee
SUMMARY:Kevadkontsert Albus
DESCRIPTION:
URL:https://jarvavald.ee/sundmus/kevadkontsert-albus/
LOCATION:Albu rahvamaja\, Ojaküla tee 1\, Albu küla\, Estonia
ATTACH;FMTTYPE=image/png:https://jarvavald.ee/wp-content/uploads/2026/04/Albu-kontsert-15.05.png
END:VEVENT
BEGIN:VEVENT
DTSTART;TZID=Europe/Tallinn:20260516T180000
DTEND;TZID=Europe/Tallinn:20260516T230000
DTSTAMP:20260420T181653
CREATED:20260420T131846Z
LAST-MODIFIED:20260420T131846Z
UID:8955-1778954400-1778972400@jarvavald.ee
SUMMARY:Muuseumiöö Öötla mõisa koduloomuuseumis
DESCRIPTION:
URL:https://jarvavald.ee/sundmus/muuseumioo-ootla-moisa-koduloomuuseumis/
LOCATION:Öötla mõis\, Öötla mõis
ATTACH;FMTTYPE=image/png:https://jarvavald.ee/wp-content/uploads/2026/04/16.05.2026-MUUSEUMIOO-OOtla-moisas-2026.png
END:VEVENT
BEGIN:VEVENT
DTSTART;TZID=Europe/Tallinn:20260523T150000
DTEND;TZID=Europe/Tallinn:20260523T180000
DTSTAMP:20260420T181653
CREATED:20260420T130143Z
LAST-MODIFIED:20260420T130143Z
UID:8929-1779548400-1779559200@jarvavald.ee
SUMMARY:Suvisted Järvamaal
DESCRIPTION:
URL:https://jarvavald.ee/sundmus/suvisted-jarvamaal/
LOCATION:Albu mõis
ATTACH;FMTTYPE=image/png:https://jarvavald.ee/wp-content/uploads/2026/04/Suvisted-Jarvamaal-2-logod-vaiksemad.png
END:VEVENT
BEGIN:VEVENT
DTSTART;TZID=Europe/Tallinn:20260530T060000
DTEND;TZID=Europe/Tallinn:20260531T055959
DTSTAMP:20260420T181653
CREATED:20260227T181125Z
LAST-MODIFIED:20260227T181125Z
UID:7903-1780120800-1780207199@jarvavald.ee
SUMMARY:Järvamaa laulu- ja tantsupidu Paides
DESCRIPTION:
URL:https://jarvavald.ee/sundmus/jarvamaa-laulu-ja-tantsupidu-paides/
LOCATION:Järva maakond
ATTACH;FMTTYPE=image/png:https://jarvavald.ee/wp-content/uploads/2026/02/Jarvamaa-pidu.png
END:VEVENT
BEGIN:VEVENT
DTSTART;TZID=Europe/Tallinn:20260609T120000
DTEND;TZID=Europe/Tallinn:20260613T180000
DTSTAMP:20260420T181653
CREATED:20260420T094506Z
LAST-MODIFIED:20260420T104853Z
UID:8890-1781006400-1781373600@jarvavald.ee
SUMMARY:Kirbukas Aravete kultuurimajas
DESCRIPTION:
URL:https://jarvavald.ee/sundmus/kirbukas-aravete-kultuurimajas/
LOCATION:Aravete kultuurimaja\, Piibe mnt 27\, Aravete\, Järva maakond\, 73501\, Estonia
ATTACH;FMTTYPE=image/jpeg:https://jarvavald.ee/wp-content/uploads/2026/04/Kirbukas-2026.jpg
END:VEVENT
BEGIN:VEVENT
DTSTART;TZID=Europe/Tallinn:20260704T100000
DTEND;TZID=Europe/Tallinn:20260705T170000
DTSTAMP:20260420T181653
CREATED:20251104T204042Z
LAST-MODIFIED:20251104T204042Z
UID:5628-1783159200-1783270800@jarvavald.ee
SUMMARY:VI Järva valla kirikute päevad
DESCRIPTION:
URL:https://jarvavald.ee/sundmus/vi-jarva-valla-kirikute-paevad/
LOCATION:Järva maakond
END:VEVENT
BEGIN:VEVENT
DTSTART;TZID=Europe/Tallinn:20260718T050000
DTEND;TZID=Europe/Tallinn:20260719T020000
DTSTAMP:20260420T181653
CREATED:20251104T204145Z
LAST-MODIFIED:20260318T172701Z
UID:5631-1784350800-1784426400@jarvavald.ee
SUMMARY:60. Väinjärve Veepidu
DESCRIPTION:
URL:https://jarvavald.ee/sundmus/60-vainjarve-veepidu/
LOCATION:Väinjärv
ATTACH;FMTTYPE=image/png:https://jarvavald.ee/wp-content/uploads/2025/11/Vainjarve2026-FB-event-cover-1920x1005px.png
END:VEVENT
END:VCALENDAR