BEGIN:VCALENDAR
VERSION:2.0
PRODID:-//Järva Vald - ECPv6.15.20//NONSGML v1.0//EN
CALSCALE:GREGORIAN
METHOD:PUBLISH
X-WR-CALNAME:Järva Vald
X-ORIGINAL-URL:https://jarvavald.ee
X-WR-CALDESC:Events for Järva Vald
REFRESH-INTERVAL;VALUE=DURATION:PT1H
X-Robots-Tag:noindex
X-PUBLISHED-TTL:PT1H
BEGIN:VTIMEZONE
TZID:Europe/Tallinn
BEGIN:DAYLIGHT
TZOFFSETFROM:+0200
TZOFFSETTO:+0300
TZNAME:EEST
DTSTART:20250330T010000
END:DAYLIGHT
BEGIN:STANDARD
TZOFFSETFROM:+0300
TZOFFSETTO:+0200
TZNAME:EET
DTSTART:20251026T010000
END:STANDARD
BEGIN:DAYLIGHT
TZOFFSETFROM:+0200
TZOFFSETTO:+0300
TZNAME:EEST
DTSTART:20260329T010000
END:DAYLIGHT
BEGIN:STANDARD
TZOFFSETFROM:+0300
TZOFFSETTO:+0200
TZNAME:EET
DTSTART:20261025T010000
END:STANDARD
BEGIN:DAYLIGHT
TZOFFSETFROM:+0200
TZOFFSETTO:+0300
TZNAME:EEST
DTSTART:20270328T010000
END:DAYLIGHT
BEGIN:STANDARD
TZOFFSETFROM:+0300
TZOFFSETTO:+0200
TZNAME:EET
DTSTART:20271031T010000
END:STANDARD
END:VTIMEZONE
BEGIN:VEVENT
DTSTART;TZID=Europe/Tallinn:20260422T170000
DTEND;TZID=Europe/Tallinn:20260422T190000
DTSTAMP:20260422T024921
CREATED:20260312T131807Z
LAST-MODIFIED:20260313T144441Z
UID:8256-1776877200-1776884400@jarvavald.ee
SUMMARY:Imavere muusikastuudio kohvik-kontsert
DESCRIPTION:
URL:https://jarvavald.ee/sundmus/imavere-muusikastuudio-kohvik-kontsert/
LOCATION:Imavere rahvamaja\, Kiigevere tee 5/2\, Imavere\, Järva maakond\, 72401\, Estonia
ATTACH;FMTTYPE=image/jpeg:https://jarvavald.ee/wp-content/uploads/2026/03/22.04-Imavere-muusikastuudio-2.jpg
END:VEVENT
END:VCALENDAR