BEGIN:VCALENDAR
VERSION:2.0
PRODID:-//Järva Vald - ECPv6.15.20//NONSGML v1.0//EN
CALSCALE:GREGORIAN
METHOD:PUBLISH
X-WR-CALNAME:Järva Vald
X-ORIGINAL-URL:https://jarvavald.ee
X-WR-CALDESC:Events for Järva Vald
REFRESH-INTERVAL;VALUE=DURATION:PT1H
X-Robots-Tag:noindex
X-PUBLISHED-TTL:PT1H
BEGIN:VTIMEZONE
TZID:Europe/Tallinn
BEGIN:DAYLIGHT
TZOFFSETFROM:+0200
TZOFFSETTO:+0300
TZNAME:EEST
DTSTART:20250330T010000
END:DAYLIGHT
BEGIN:STANDARD
TZOFFSETFROM:+0300
TZOFFSETTO:+0200
TZNAME:EET
DTSTART:20251026T010000
END:STANDARD
BEGIN:DAYLIGHT
TZOFFSETFROM:+0200
TZOFFSETTO:+0300
TZNAME:EEST
DTSTART:20260329T010000
END:DAYLIGHT
BEGIN:STANDARD
TZOFFSETFROM:+0300
TZOFFSETTO:+0200
TZNAME:EET
DTSTART:20261025T010000
END:STANDARD
BEGIN:DAYLIGHT
TZOFFSETFROM:+0200
TZOFFSETTO:+0300
TZNAME:EEST
DTSTART:20270328T010000
END:DAYLIGHT
BEGIN:STANDARD
TZOFFSETFROM:+0300
TZOFFSETTO:+0200
TZNAME:EET
DTSTART:20271031T010000
END:STANDARD
END:VTIMEZONE
BEGIN:VEVENT
DTSTART;TZID=Europe/Tallinn:20260420T060000
DTEND;TZID=Europe/Tallinn:20260421T055959
DTSTAMP:20260420T123730
CREATED:20260402T120406Z
LAST-MODIFIED:20260402T120825Z
UID:8731-1776664800-1776751199@jarvavald.ee
SUMMARY:Piimandusmuuseumist väljasõit Aegviidu loodusrajale
DESCRIPTION:
URL:https://jarvavald.ee/sundmus/piimandusmuuseumist-valjasoit-aegviidu-loodusrajale/
LOCATION:Järva maakond
ATTACH;FMTTYPE=image/png:https://jarvavald.ee/wp-content/uploads/2026/04/5.-Aegviidu-matk.png
END:VEVENT
END:VCALENDAR